BEGIN:VCALENDAR
VERSION:2.0
PRODID:-//Acme Widgets\, Inc.//NONSGML ExportToCalendar//EN
CALSCALE:GREGORIAN
METHOD:PUBLISH
X-WR-CALNAME:Groupmuses near 
X-WR-NAME:Groupmuses near 
BEGIN:VEVENT
DTSTAMP:20260420T133520Z
UID:270f7a2f-0281-4790-b2f4-a885fbca16a4
DTSTART:20260512T230000Z
DTEND:20260513T013000Z
DESCRIPTION:Hosted by The Riverside Church\nMusicians: Stephen Tharp\n\nExp
 erience the awe-inspiring power of the organ with **Groupmuse Nights Out**
 \, offering discounted tickets to a solo recital by **Stephen Tharp at The
  Riverside Church on Tuesday\, May 12 at 7:00 PM**. Widely regarded as one
  of the greatest concert organists of our time\, Tharp has been hailed as 
 “the organist for the connoisseur” and “the consummate creative arti
 st.” With a global career spanning over 1\,600 performances across more 
 than 60 tours\, he brings unmatched mastery\, intellect\, and expressive d
 epth to every performance—transforming the organ into an instrument of b
 reathtaking scale and nuance.\n\nSet within the magnificent acoustics of R
 iverside Church\, this recital offers a rare chance to hear a true virtuos
 o command one of New York’s most extraordinary instruments. From thunder
 ous grandeur to intricate\, shimmering detail\, Tharp’s playing reveals 
 the full sonic universe of the organ. With Groupmuse Nights Out discounted
  tickets\, this is your invitation to an evening of profound musical archi
 tecture and emotional resonance—an experience as powerful as it is unfor
 gettable. 🎶✨
LOCATION:Riverside Church
SUMMARY:Riverside Church Presents: Organist Stephen Tharp
URL:https://www.groupmuse.com/events/16558-riverside-church-presents-organi
 st-stephen-tharp
END:VEVENT
END:VCALENDAR
